BEGIN:VCALENDAR
VERSION:2.0
PRODID:-//Misfit Brewing – Craft Brewery in Cypress, Texas - ECPv6.15.17//NONSGML v1.0//EN
CALSCALE:GREGORIAN
METHOD:PUBLISH
X-ORIGINAL-URL:https://www.drinkmisfit.com
X-WR-CALDESC:Events for Misfit Brewing – Craft Brewery in Cypress, Texas
REFRESH-INTERVAL;VALUE=DURATION:PT1H
X-Robots-Tag:noindex
X-PUBLISHED-TTL:PT1H
BEGIN:VTIMEZONE
TZID:America/Chicago
BEGIN:DAYLIGHT
TZOFFSETFROM:-0600
TZOFFSETTO:-0500
TZNAME:CDT
DTSTART:20240310T080000
END:DAYLIGHT
BEGIN:STANDARD
TZOFFSETFROM:-0500
TZOFFSETTO:-0600
TZNAME:CST
DTSTART:20241103T070000
END:STANDARD
BEGIN:DAYLIGHT
TZOFFSETFROM:-0600
TZOFFSETTO:-0500
TZNAME:CDT
DTSTART:20250309T080000
END:DAYLIGHT
BEGIN:STANDARD
TZOFFSETFROM:-0500
TZOFFSETTO:-0600
TZNAME:CST
DTSTART:20251102T070000
END:STANDARD
BEGIN:DAYLIGHT
TZOFFSETFROM:-0600
TZOFFSETTO:-0500
TZNAME:CDT
DTSTART:20260308T080000
END:DAYLIGHT
BEGIN:STANDARD
TZOFFSETFROM:-0500
TZOFFSETTO:-0600
TZNAME:CST
DTSTART:20261101T070000
END:STANDARD
END:VTIMEZONE
BEGIN:VTIMEZONE
TZID:UTC
BEGIN:STANDARD
TZOFFSETFROM:+0000
TZOFFSETTO:+0000
TZNAME:UTC
DTSTART:20240101T000000
END:STANDARD
END:VTIMEZONE
BEGIN:VEVENT
DTSTART;TZID=America/Chicago:20251219T190000
DTEND;TZID=America/Chicago:20251219T210000
DTSTAMP:20260423T084728
CREATED:20250923T182530Z
LAST-MODIFIED:20250923T182530Z
UID:512-1766170800-1766178000@www.drinkmisfit.com
SUMMARY:Karaoke Night
DESCRIPTION:Join us for Karaoke Night Friday\, December 19th \nOpen 3 – 10pm (Happy Hour 3 – 6pm) \nKaraoke begins at 7pm!
URL:https://www.drinkmisfit.com/event/karaoke-night-9/
ATTACH;FMTTYPE=image/jpeg:https://www.drinkmisfit.com/wp-content/uploads/2025/02/karaoke-night.jpg
END:VEVENT
BEGIN:VEVENT
DTSTART;TZID=America/Chicago:20251121T190000
DTEND;TZID=America/Chicago:20251121T210000
DTSTAMP:20260423T084728
CREATED:20250923T182445Z
LAST-MODIFIED:20250923T182445Z
UID:510-1763751600-1763758800@www.drinkmisfit.com
SUMMARY:Karaoke Night
DESCRIPTION:Join us for Karaoke Night Friday\, November 21st \nOpen 3 – 10pm (Happy Hour 3 – 6pm) \nKaraoke begins at 7pm!
URL:https://www.drinkmisfit.com/event/karaoke-night-8/
ATTACH;FMTTYPE=image/jpeg:https://www.drinkmisfit.com/wp-content/uploads/2025/02/karaoke-night.jpg
END:VEVENT
BEGIN:VEVENT
DTSTART;TZID=America/Chicago:20251120T180000
DTEND;TZID=America/Chicago:20251120T220000
DTSTAMP:20260423T084728
CREATED:20251027T011706Z
LAST-MODIFIED:20251028T003306Z
UID:576-1763661600-1763676000@www.drinkmisfit.com
SUMMARY:Misfit Friendsgiving
DESCRIPTION:Join us for our Friendsgiving Thursday November 20th at 6pm. Bring your favorite dish and celebrate our community and friendship!
URL:https://www.drinkmisfit.com/event/misfit-friendsgiving/
ATTACH;FMTTYPE=image/png:https://www.drinkmisfit.com/wp-content/uploads/2025/10/FRIENDSGIVING-2025.png
END:VEVENT
BEGIN:VEVENT
DTSTART;TZID=America/Chicago:20251116T140000
DTEND;TZID=America/Chicago:20251116T160000
DTSTAMP:20260423T084728
CREATED:20251027T011447Z
LAST-MODIFIED:20251027T011447Z
UID:573-1763301600-1763308800@www.drinkmisfit.com
SUMMARY:Music Bingo
DESCRIPTION:Come join us Sunday November 16th for Music Bingo from 2pm – 4pm. Free to play with prizes! \nLa Diva Del Taco will be joining us for the food. \nHosted by Liveplay Games.
URL:https://www.drinkmisfit.com/event/music-bingo/
ATTACH;FMTTYPE=image/png:https://www.drinkmisfit.com/wp-content/uploads/2025/10/NOV.-MUSIC-BINGO-2025.png
END:VEVENT
BEGIN:VEVENT
DTSTART;TZID=America/Chicago:20251112T183000
DTEND;TZID=America/Chicago:20251112T213000
DTSTAMP:20260423T084728
CREATED:20251102T000746Z
LAST-MODIFIED:20251102T000746Z
UID:579-1762972200-1762983000@www.drinkmisfit.com
SUMMARY:A Typical Art Night - Analog Collage and Button Making
DESCRIPTION:Join us Wednesday 11/12 for a fun night of crafting. We will be hosting an Analog Collage and Button making event. Free to join and supplies provided but feel free to bring your own! Bring your creativity.
URL:https://www.drinkmisfit.com/event/a-typical-art-night-analog-collage-and-button-making/
ATTACH;FMTTYPE=image/png:https://www.drinkmisfit.com/wp-content/uploads/2025/11/A-TYPICAL-ART-FLYER.png
END:VEVENT
BEGIN:VEVENT
DTSTART;TZID=America/Chicago:20251031T190000
DTEND;TZID=America/Chicago:20251031T220000
DTSTAMP:20260423T084728
CREATED:20250923T182352Z
LAST-MODIFIED:20251021T140422Z
UID:507-1761937200-1761948000@www.drinkmisfit.com
SUMMARY:Scaryoke - Karaoke Night - Halloween Edition
DESCRIPTION:Halloween Night! Join us for Karaoke Night Friday\, October 31st \nOpen 3 – 10pm (Happy Hour 3 – 6pm) \nKaraoke begins at 7pm!
URL:https://www.drinkmisfit.com/event/karaoke-night-7/
ATTACH;FMTTYPE=application/pdf:https://www.drinkmisfit.com/wp-content/uploads/2025/09/Scaryoke-IG.pdf
END:VEVENT
BEGIN:VEVENT
DTSTART;TZID=America/Chicago:20251025T120000
DTEND;TZID=America/Chicago:20251025T220000
DTSTAMP:20260423T084728
CREATED:20251021T140256Z
LAST-MODIFIED:20251021T140256Z
UID:537-1761393600-1761429600@www.drinkmisfit.com
SUMMARY:Halloween Party - Carnival of Chaos
DESCRIPTION:Join us Saturday October 25th for a full day of beer releases\, tricks and treats! \nMore details via our social media @misfitbrewing
URL:https://www.drinkmisfit.com/event/halloween-party-carnival-of-chaos/
ATTACH;FMTTYPE=image/png:https://www.drinkmisfit.com/wp-content/uploads/2025/10/Carnival-Flyer.png
END:VEVENT
BEGIN:VEVENT
DTSTART;TZID=America/Chicago:20251010T183000
DTEND;TZID=America/Chicago:20251010T213000
DTSTAMP:20260423T084728
CREATED:20250923T182812Z
LAST-MODIFIED:20250925T001106Z
UID:514-1760121000-1760131800@www.drinkmisfit.com
SUMMARY:Live Music - Marcus Breidenthal
DESCRIPTION:Live Music returns with our good friend Marcus Breidenthal Friday Oct. 10th – 6:30pm
URL:https://www.drinkmisfit.com/event/live-music-marcus-breidenthal/
ATTACH;FMTTYPE=image/png:https://www.drinkmisfit.com/wp-content/uploads/2025/09/LIVEEEE-1.png
END:VEVENT
BEGIN:VEVENT
DTSTART;TZID=America/Chicago:20251004T120000
DTEND;TZID=America/Chicago:20251004T220000
DTSTAMP:20260423T084728
CREATED:20250923T183036Z
LAST-MODIFIED:20250923T183036Z
UID:516-1759579200-1759615200@www.drinkmisfit.com
SUMMARY:Misfit Oktoberfest
DESCRIPTION:Join us Saturday Oct. 4th for our Oktoberfest celebrations. Beer releases\, Stein Holding competition\, Live DJ\, Best Dressed contest and fun are all in order!
URL:https://www.drinkmisfit.com/event/misfit-oktoberfest/
ATTACH;FMTTYPE=image/png:https://www.drinkmisfit.com/wp-content/uploads/2025/09/oktoberfest-flyer.png
END:VEVENT
BEGIN:VEVENT
DTSTART;TZID=America/Chicago:20250927T190000
DTEND;TZID=America/Chicago:20250927T210000
DTSTAMP:20260423T084728
CREATED:20250923T182305Z
LAST-MODIFIED:20250923T182305Z
UID:505-1758999600-1759006800@www.drinkmisfit.com
SUMMARY:Karaoke Night
DESCRIPTION:Join us for Karaoke Night Friday\, September 26th \nOpen 3 – 10pm (Happy Hour 3 – 6pm) \nKaraoke begins at 7pm!
URL:https://www.drinkmisfit.com/event/karaoke-night-6/
ATTACH;FMTTYPE=image/jpeg:https://www.drinkmisfit.com/wp-content/uploads/2025/02/karaoke-night.jpg
END:VEVENT
BEGIN:VEVENT
DTSTART;TZID=America/Chicago:20250627T190000
DTEND;TZID=America/Chicago:20250627T210000
DTSTAMP:20260423T084728
CREATED:20250325T121102Z
LAST-MODIFIED:20250325T121102Z
UID:413-1751050800-1751058000@www.drinkmisfit.com
SUMMARY:Karaoke Night
DESCRIPTION:Join us for Karaoke Night Friday\, June 27th \nOpen 3 – 10pm (Happy Hour 3 – 6pm) \nKaraoke begins at 7pm!
URL:https://www.drinkmisfit.com/event/karaoke-night-5/
ATTACH;FMTTYPE=image/jpeg:https://www.drinkmisfit.com/wp-content/uploads/2025/02/karaoke-night.jpg
END:VEVENT
BEGIN:VEVENT
DTSTART;TZID=America/Chicago:20250611T183000
DTEND;TZID=America/Chicago:20250611T193000
DTSTAMP:20260423T084728
CREATED:20250325T115741Z
LAST-MODIFIED:20250325T121151Z
UID:400-1749666600-1749670200@www.drinkmisfit.com
SUMMARY:Loteria Night
DESCRIPTION:Wednesday\, June 11th at 6:30pm we’ll be introducing our Loteria Night at the brewery. Multiple Bingo rounds and exclusive Misfit branded merch along with free pints are up for grabs as prizes. \nMake plans to join the fun! 🍻
URL:https://www.drinkmisfit.com/event/loteria-night-2/
ATTACH;FMTTYPE=image/png:https://www.drinkmisfit.com/wp-content/uploads/2024/01/Loteria-Night-Flyer.png
END:VEVENT
BEGIN:VEVENT
DTSTART;TZID=America/Chicago:20250530T190000
DTEND;TZID=America/Chicago:20250530T210000
DTSTAMP:20260423T084728
CREATED:20250325T115912Z
LAST-MODIFIED:20250325T115912Z
UID:403-1748631600-1748638800@www.drinkmisfit.com
SUMMARY:Karaoke Night
DESCRIPTION:Join us for Karaoke Night Friday\, May 30th \nOpen 3 – 10pm (Happy Hour 3 – 6pm) \nKaraoke begins at 7pm!
URL:https://www.drinkmisfit.com/event/karaoke-night-4/
ATTACH;FMTTYPE=image/jpeg:https://www.drinkmisfit.com/wp-content/uploads/2025/02/karaoke-night.jpg
END:VEVENT
BEGIN:VEVENT
DTSTART;TZID=America/Chicago:20250514T183000
DTEND;TZID=America/Chicago:20250514T193000
DTSTAMP:20260423T084728
CREATED:20250325T121301Z
LAST-MODIFIED:20250325T121301Z
UID:416-1747247400-1747251000@www.drinkmisfit.com
SUMMARY:Loteria Night
DESCRIPTION:Wednesday\, May 14th at 6:30pm we’ll be introducing our Loteria Night at the brewery. Multiple Bingo rounds and exclusive Misfit branded merch along with free pints are up for grabs as prizes. \nMake plans to join the fun! 🍻
URL:https://www.drinkmisfit.com/event/loteria-night-3/
ATTACH;FMTTYPE=image/png:https://www.drinkmisfit.com/wp-content/uploads/2024/01/Loteria-Night-Flyer.png
END:VEVENT
BEGIN:VEVENT
DTSTART;TZID=America/Chicago:20250509T120000
DTEND;TZID=America/Chicago:20250511T190000
DTSTAMP:20260423T084728
CREATED:20250402T182449Z
LAST-MODIFIED:20250402T182454Z
UID:419-1746792000-1746990000@www.drinkmisfit.com
SUMMARY:Two Year Anniversary
DESCRIPTION:Join us May 9th – May 11th as we celebrate our 2nd anniversary! \nNew Merch\, Beer releases\, music and more are on the schedule! Save the date.
URL:https://www.drinkmisfit.com/event/two-year-anniversary/
ATTACH;FMTTYPE=image/png:https://www.drinkmisfit.com/wp-content/uploads/2025/04/2-YR.-ANN.-IG.png
END:VEVENT
BEGIN:VEVENT
DTSTART;TZID=America/Chicago:20250425T190000
DTEND;TZID=America/Chicago:20250425T210000
DTSTAMP:20260423T084728
CREATED:20250325T115554Z
LAST-MODIFIED:20250325T115611Z
UID:398-1745607600-1745614800@www.drinkmisfit.com
SUMMARY:Karaoke Night
DESCRIPTION:Join us for Karaoke Night Friday\, April 25th \nOpen 3 – 10pm (Happy Hour 3 – 6pm) \nKaraoke begins at 7pm!
URL:https://www.drinkmisfit.com/event/karaoke-night-3/
ATTACH;FMTTYPE=image/jpeg:https://www.drinkmisfit.com/wp-content/uploads/2025/02/karaoke-night.jpg
END:VEVENT
BEGIN:VEVENT
DTSTART;TZID=UTC:20250409T183000
DTEND;TZID=UTC:20250409T193000
DTSTAMP:20260423T084728
CREATED:20240114T131202Z
LAST-MODIFIED:20250325T115409Z
UID:93-1744223400-1744227000@www.drinkmisfit.com
SUMMARY:Loteria Night
DESCRIPTION:Wednesday\, April 9th at 6:30pm we’ll be introducing our Loteria Night at the brewery. Multiple Bingo rounds and exclusive Misfit branded merch along with free pints are up for grabs as prizes. \n@swanginwings will be joining us as well for food options \nMake plans to join the fun! 🍻
URL:https://www.drinkmisfit.com/event/loteria-night/
ATTACH;FMTTYPE=image/png:https://www.drinkmisfit.com/wp-content/uploads/2024/01/Loteria-Night-Flyer.png
END:VEVENT
BEGIN:VEVENT
DTSTART;TZID=America/Chicago:20250328T190000
DTEND;TZID=America/Chicago:20250328T210000
DTSTAMP:20260423T084728
CREATED:20250226T195415Z
LAST-MODIFIED:20250226T195629Z
UID:370-1743188400-1743195600@www.drinkmisfit.com
SUMMARY:Karaoke Night
DESCRIPTION:Join us for Karaoke Night Friday\, March 28th \nOpen 3 – 10pm (Happy Hour 3 – 6pm) \nKaraoke begins at 7pm!
URL:https://www.drinkmisfit.com/event/karaoke-night-2/
ATTACH;FMTTYPE=image/jpeg:https://www.drinkmisfit.com/wp-content/uploads/2025/02/karaoke-night.jpg
END:VEVENT
BEGIN:VEVENT
DTSTART;TZID=America/Chicago:20250228T190000
DTEND;TZID=America/Chicago:20250228T210000
DTSTAMP:20260423T084728
CREATED:20250222T224739Z
LAST-MODIFIED:20250224T202006Z
UID:316-1740769200-1740776400@www.drinkmisfit.com
SUMMARY:Karaoke Night
DESCRIPTION:Join us for Karaoke Night Friday\, Feb 28! \nOpen 3 – 10pm (Happy Hour 3 – 6pm) \nKaraoke begins at 7pm!
URL:https://www.drinkmisfit.com/event/karaoke-night/
ATTACH;FMTTYPE=image/jpeg:https://www.drinkmisfit.com/wp-content/uploads/2025/02/karaoke-night.jpg
END:VEVENT
END:VCALENDAR